Workbook
Name __FPMExcelClient_Connection: "_FPM_BPCNW10_[http://hcepmp00.kof.com.mx:8010/sap/bpc/]_[KOF]_[Consolidation]_[false]_[false]\1"
Name __FPMExcelClient_RefreshTime: 636353365838290000
Name Año: [3]Resumen!$O$5:$O$18
Name ArgentinaFIEL: '[3]Indices Interno (Arg & Ven)'!$H$6:$L$112
Name HIP: #REF!
Name HIP: #REF!
Name HIP: #REF!
Name HIP: #REF!
Name HIP: #REF!
Name HIP: #REF!
Name Mes: [3]Resumen!$P$5:$P$16
Name VenezuelaReal: '[3]Indices Interno (Arg & Ven)'!$B$6:$F$112

Sheet (+) Resumen
B2: Segundo Trimestre | H2: Acumulado
B3: Reportado | E3: Comparable (1) | H3: Reportado | K3: Comparable (1)
A4: Expresado en millones de pesos mexicanos. | B4: 2018 | C4: D% | E4: 2017 | F4: D% | H4: 2018 | I4: D% | K4: 2017 | L4: D%
A6: Ingresos totales | B6: 52085.985 | C6: 0.039474444 | F6: 0.077793692 | H6: 101798.85 | I6: 0.019528031 | L6: 0.07495068
A7: Utilidad bruta | B7: 22950.914 | C7: 0.0055165059 | F7: 0.0279077 | H7: 44867.602 | I7: 0.0043336524 | L7: 0.042341719
A8: Utilidad de operación | B8: 6276.009 | C8: -0.033121406 | F8: -0.059139245 | H8: 12159.365 | I8: -0.048190615 | L8: -0.039208398
A9: Flujo operativo (2) | B9: 9511.2168 | C9: -0.026487532 | F9: -0.0001033597 | H9: 18216.771 | I9: -0.041222565 | L9: 0.0080095129
A10: Utilidad neta atribuible a la participación controladora | B10: 2780.6659 | C10: 0.24749481 | H10: 5194.772 | I10: -0.38253037
A11: Utilidad por acción (3) | B11: 1.3236021 | H11: 2.472721
A13: (2) Flujo Operativo = utilidad de operación + depreciación + amortización y otros cargos virtuales de operación.
A14: (3) Utilidad por acción (UPA) calculada con 2,100.8 millones de acciones en circulación.

Sheet (1) Consolidado Q
A1: T_K46v - KOF SIN VENEZUELA | B1: Trimestre - Estado de Resultados Consolidado
B2: Expresado en millones de pesos mexicanos(1)
C3: 2T 18 | D3: % Ing | F3: 2T 17 | G3: % Ing | I3: D % Reportado | K3: D % Comparable (8)
B4: Transacciones (millones de transacciones) | C4: 6699.1465 | F4: 6690.2 | I4: 0.0013372498 | K4: 0.0044545467
B5: Volumen (millones de cajas unidad) (2) | C5: 977.1 | F5: 995 | I5: -0.01798995 | K5: -0.013760565
B6: Precio promedio por caja unidad (2) | C6: 50.293688 | F6: 47.89 | I6: 0.050191852
A7: =+[1]ACTUAL!B11 -> 5 | B7: Ventas netas | C7: 51984.528 | F7: 50049 | I7: 0.038672664
A8: =+A7+1 -> 6 | B8: Otros ingresos de operación | C8: 101.45728 | F8: 59 | I8: 0.71961498
A9: =+A8+1 -> 7 | B9: Ingresos totales (3) | C9: 52085.985 | D9: 1 | F9: 50108 | G9: 1 | I9: 0.039474444 | K9: 0.077793692
A10: =+A9+1 -> 8 | B10: Costo de ventas | C10: 29135.071 | D10: 0.55936488 | F10: 27282 | G10: 0.54446396 | I10: 0.06792285
A11: =+A10+1 -> 9 | B11: Utilidad bruta | C11: 22950.914 | D11: 0.44063512 | F11: 22825 | G11: 0.45551609 | I11: 0.0055165059 | K11: 0.0279077
A12: =+A11+1 -> 10 | B12: Gastos de operación | C12: 16126.413 | D12: 0.30961136 | F12: 16168 | G12: 0.32266305 | I12: -0.0025721867
A13: =+A12+1 -> 11 | B13: Otros gastos operativos, neto | C13: 481.22823 | D13: 0.0092391115 | F13: 132 | G13: 0.0026343099 | I13: 2.6456684
A14: =+A13+1 -> 12 | B14: Método de participación operativo en los resultados de asociadas (4) | C14: 67.264183 | D14: 0.0012914066 | F14: 35 | G14: 0.00069849126 | I14: 0.92183381
A15: =+A14+1 -> 13 | B15: Utilidad de operación (5) | C15: 6276.009 | D15: 0.12049324 | F15: 6491 | G15: 0.12954019 | I15: -0.033121406 | K15: -0.059139245
A16: 14 | B16: Otros gastos no operativos, neto | C16: 58.565832 | F16: 1330 | I16: -0.95596554
A17: =+A16+1 -> 15 | B17: Método de participación no operativo en los resultados de asociadas(6) | C17: -17.686462 | F17: 11 | I17: NA
A18: =+A17+1 -> 16 | B18: Gastos financieros | C18: 1681.7664 | F18: 2128 | I18: -0.20969624
A19: =+A18+1 -> 17 | B19: Productos financieros | C19: 92.594406 | F19: 182 | I19: -0.49123953
A20: =+A19+1 -> 18 | B20: Gastos financieros, neto | C20: 1589.172 | F20: 1946 | I20: -0.18336485
A21: =+A20+1 -> 19 | B21: Pérdida (utilidad) cambiaria | C21: -267.83911 | F21: -139 | I21: 0.92690005
A22: =+A21+1 -> 20 | B22: (Utilidad) pérdida por posición monetaria en subsidiarias hiperinflacionarias | C22: 0 | F22: -178 | I22: NA
A23: =+A22+1 -> 21 | B23: (Utilidad) pérdida en instrumentos financieros | C23: 59.332913 | F23: 82 | I23: -0.27642789
A24: =+A23+1 -> 22 | B24: Resultado integral de financiamiento | C24: 1380.6658 | F24: 1711 | I24: -0.19306499
A25: =+A24+1 -> 23 | B25: Utilidad antes de impuestos | C25: 4854.4638 | F25: 3439 | I25: 0.41159168
A26: =+A25+1 -> 24 | B26: Impuestos | C26: 1663.5706 | F26: 850 | I26: 0.95714186
A27: =+A26+1 -> 25 | B27: Utilidad neta consolidada | C27: 3190.8932 | F27: 2589 | I27: 0.23248096
A28: =+A27+1 -> 26 | B28: Utilidad neta atribuible a la participación controladora | C28: 2780.6659 | D28: 0.053386067 | F28: 2229 | G28: 0.044483915 | I28: 0.24749481
A29: =+A28+1 -> 27 | B29: Participación no controladora | C29: 410.22729 | F29: 360 | I29: 0.13952024
A30: =+A29+1 -> 28 | B30: Utilidad de operación (5) | C30: 6276.009 | D30: 0.12049324 | F30: 6491 | G30: 0.12954019 | I30: -0.033121406
A31: =+A30+1 -> 29 | B31: Depreciación | C31: 2478.1881 | F31: 2477 | I31: 0.00047964885
A32: =+A31+1 -> 30 | B32: Amortización y otros cargos virtuales | C32: 757.01977 | F32: 802 | I32: -0.056085073
A33: =+A32+1 -> 31 | B33: Flujo operativo (5)(7) | C33: 9511.2168 | D33: 0.18260606 | F33: 9770 | G33: 0.19497885 | I33: -0.026487532 | K33: -0.0001033597
B35: CAPEX | C35: 2721.7475 | F35: 2539
B37: (1) Excepto transacciones, volumen y precio promedio por caja unidad.
B38: (2) Volumen y precio promedio por caja unidad excluyen los resultados de cerveza.
B39: (3) Favor de consultar la página 18 para el desglose de ingresos.
B40: (4) Incluye método de participación en Jugos del Valle, Leao Alimentos, Estrella Azul, entre otros.
B41: (5) Las líneas de utilidad de operación y el flujo operativo se presentan como una medida no contable para comodidad del lector
B42: (6) Incluye método de participación en PIASA, IEQSA, Beta San Miguel, IMER y KSP Participacoes entre otros.
...

Sheet (2) Consolidado YTD
A1: T_K46v - KOF SIN VENEZUELA | B1: Acumulado - Estado de Resultados Consolidado
B2: Expresado en millones de pesos mexicanos(1)
C3: Acumulado 2018 | D3: % Ing | F3: Acumulado 2017 | G3: % Ing | I3: D % Reportado | K3: D % Comparable (8)
B4: Transacciones (millones de transacciones) | C4: 12836.714 | F4: 12431.9 | I4: 0.032562518 | K4: 0.0070823477
B5: Volumen (millones de cajas unidad) (2) | C5: 1884.893 | F5: 1876.3 | I5: 0.0045797706 | K5: -0.0067386603
B6: Precio promedio por caja unidad (2) | C6: 50.481073 | F6: 49.97 | I6: 0.010227601
A7: =+[1]ACTUAL!B11 -> 5 | B7: Ventas netas | C7: 101580.48 | F7: 99694 | I7: 0.01892268
A8: =+A7+1 -> 6 | B8: Otros ingresos de operación | C8: 218.37674 | F8: 154 | I8: 0.4180308
A9: =+A8+1 -> 7 | B9: Ingresos totales (3) | C9: 101798.85 | D9: 1 | F9: 99849 | G9: 1 | I9: 0.019528031 | K9: 0.07495068
A10: =+A9+1 -> 8 | B10: Costo de ventas | C10: 56931.253 | D10: 0.55925239 | F10: 55175 | G10: 0.5525844 | I10: 0.03183059
A11: =+A10+1 -> 9 | B11: Utilidad bruta | C11: 44867.602 | D11: 0.44074761 | F11: 44674 | G11: 0.4474156 | I11: 0.0043336524 | K11: 0.042341719
A12: =+A11+1 -> 10 | B12: Gastos de operación | C12: 32060.654 | D12: 0.3149412 | F12: 32168 | G12: 0.32216647 | I12: -0.0033370519
A13: =+A12+1 -> 11 | B13: Otros gastos operativos, neto | C13: 531.66889 | D13: 0.0052227394 | F13: -258 | G13: -0.0025839017 | I13: NA
A14: =+A13+1 -> 12 | B14: Método de participación operativo en los resultados de asociadas (4) | C14: 115.9141 | D14: 0.0011386582 | F14: -11 | G14: -0.00011016635 | I14: NA
A15: =+A14+1 -> 13 | B15: Utilidad de operación (5) | C15: 12159.365 | D15: 0.11944501 | F15: 12775 | G15: 0.12794319 | I15: -0.048190615 | K15: -0.039208398
A16: 14 | B16: Otros gastos no operativos, neto | C16: 120.53937 | F16: -1335 | I16: NA
A17: =+A16+1 -> 15 | B17: Método de participación no operativo en los resultados de asociadas(6) | C17: -6.1772962 | F17: -26 | I17: -0.76241168
A18: =+A17+1 -> 16 | B18: Gastos financieros | C18: 3693.6764 | F18: 4641 | I18: -0.20412057
A19: =+A18+1 -> 17 | B19: Productos financieros | C19: 506.26922 | F19: 362 | I19: 0.39853376
A20: =+A19+1 -> 18 | B20: Gastos financieros, neto | C20: 3187.4072 | F20: 4279 | I20: -0.25510464
A21: =+A20+1 -> 19 | B21: Pérdida (utilidad) cambiaria | C21: -39.212606 | F21: -193 | I21: -0.79682587
A22: =+A21+1 -> 20 | B22: (Utilidad) pérdida por posición monetaria en subsidiarias hiperinflacionarias | C22: 0 | F22: -424 | I22: -1
A23: =+A22+1 -> 21 | B23: (Utilidad) pérdida en instrumentos financieros | C23: 305.13953 | F23: -352 | I23: -1.8668737
A24: =+A23+1 -> 22 | B24: Resultado integral de financiamiento | C24: 3453.3342 | F24: 3310 | I24: 0.043303369
A25: =+A24+1 -> 23 | B25: Utilidad antes de impuestos | C25: 8591.6687 | F25: 10825 | I25: -0.20631236
A26: =+A25+1 -> 24 | B26: Impuestos | C26: 2859.8343 | F26: 1884 | I26: 0.51795878
A27: =+A26+1 -> 25 | B27: Utilidad neta consolidada | C27: 5731.8343 | F27: 8941 | I27: -0.35892693
A28: =+A27+1 -> 26 | B28: Utilidad neta atribuible a la participación controladora | C28: 5194.772 | D28: 0.051029769 | F28: 8413 | G28: 0.084257228 | I28: -0.38253037
A29: =+A28+1 -> 27 | B29: Participación no controladora | C29: 537.0623 | F29: 528 | I29: 0.017163445
A30: =+A29+1 -> 28 | B30: Utilidad de operación (5) | C30: 12159.365 | D30: 0.11944501 | F30: 12775 | G30: 0.12794319 | I30: -0.048190615
A31: =+A30+1 -> 29 | B31: Depreciación | C31: 4831.0332 | F31: 4839 | I31: -0.0016463691
A32: =+A31+1 -> 30 | B32: Amortización y otros cargos virtuales | C32: 1226.3732 | F32: 1387 | I32: -0.11580882
A33: =+A32+1 -> 31 | B33: Flujo operativo (5)(7) | C33: 18216.771 | D33: 0.17894869 | F33: 19000 | G33: 0.19028733 | I33: -0.041222565 | K33: 0.0080095129
B35: CAPEX | C35: 4586.9395 | F35: 6425
B37: (1) Excepto transacciones, volumen y precio promedio por caja unidad.
B38: (2) Volumen y precio promedio por caja unidad excluyen los resultados de cerveza.
B39: (3) Favor de consultar la página 19 para el desglose de ingresos.
B40: (4) Incluye método de participación en Jugos del Valle, Leao Alimentos, Estrella Azul, entre otros. Para enero'17 incluye Coca-Cola FEMSA Philippines, Inc.
B41: (5) Las líneas de utilidad de operación y el flujo operativo se presentan como una medida no contable para comodidad del lector
B42: (6) Incluye método de participación en PIASA, IEQSA, Beta San Miguel, IMER y KSP Participacoes entre otros.
...

Sheet (3) Division MX-CAM 
A1: L_K49 - Mexico y Centroamerica | B1: División México y Centroamérica
B2: Expresado en millones de pesos mexicanos(1)
B3: Información Trimestral
C4: =+'(1) Consolidado Q'!C3 -> 2T 18 | D4: % Ing | F4: =+'(1) Consolidado Q'!F3 -> 2T 17 | G4: % Ing | I4: D % Reportado | K4: D % Comparable(6)
B5: Transacciones (millones de transacciones) | C5: 3072.1937 | F5: 2997.5 | I5: 0.024918657 | K5: -0.0012333654
B6: Volumen (millones de cajas unidad) | C6: 552.20373 | F6: 543.7 | I6: 0.015640483 | K6: -0.00081282998
B7: Precio promedio por caja unidad | C7: 47.778001 | F7: 45.13 | I7: 0.058674966
A8: =+[1]ACTUAL!B11 -> 5 | B8: Ventas netas. | C8: 26383.191 | F8: 24536.012
A9: =+A8+1 -> 6 | B9: Otros ingresos de operación. | C9: 8.5828146 | F9: 11.292052
A10: =+A9+1 -> 7 | B10: Ingresos totales (2) | C10: 26391.773 | D10: 1 | F10: 24547.304 | G10: 1 | I10: 0.075139382 | K10: 0.043330458
A11: =+A10+1 -> 8 | B11: Costo de ventas | C11: 13511.005 | D11: 0.51194003 | F11: 12386.122 | G11: 0.50458177
A12: =+A11+1 -> 9 | B12: Utilidad bruta | C12: 12880.768 | D12: 0.48805997 | F12: 12161.182 | G12: 0.49541823 | I12: 0.059170727 | K12: 0.028035603
A13: =+A12+1 -> 10 | B13: Gastos de operación | C13: 8719.0167 | D13: 0.33036873 | F13: 7906.0814 | G13: 0.32207534
A14: =+A13+1 -> 11 | B14: Otros gastos operativos, neto | C14: 276.19546 | D14: 0.01046521 | F14: -26.228716 | G14: -0.0010684968
A15: =+A14+1 -> 12 | B15: Método de participación operativo en resultados de asociadas (3) | C15: 85.446643 | D15: 0.0032376242 | F15: 42.381038 | G15: 0.0017265048
A16: =+A15+1 -> 13 | B16: Utilidad de operación (4) | C16: 3800.1092 | D16: 0.1439884 | F16: 4238.9484 | G16: 0.17268488 | I16: -0.10352547 | K16: -0.124694
A17: 32 | B17: Depreciación, amortización y otros cargos virtuales | C17: 1813.6399 | D17: 0.068719894 | F17: 1396.3459 | G17: 0.05688388
A18: =+'(1) Consolidado Q'!A33 -> 31 | B18: Flujo operativo (4)(5) | C18: 5613.7491 | D18: 0.21270829 | F18: 5635.2943 | G18: 0.22956876 | I18: -0.0038232543 | K18: -0.029319989
B20: Información Acumulada
C21: =+'(2) Consolidado YTD'!C3 -> Acumulado 2018 | D21: % Ing | F21: =+'(2) Consolidado YTD'!F3 -> Acumulado 2017 | G21: % Ing | I21: D % Reportado | K21: D % Comparable(6)
B22: Transacciones (millones de transacciones) | C22: 5746.2149 | F22: 5677.9 | I22: 0.01203172 | K22: -0.0017714616
B23: Volumen (millones de cajas unidad) | C23: 1027.0742 | F23: 1016.7 | I23: 0.010203831 | K23: 0.0013322226
B24: Precio promedio por caja unidad | C24: 47.369253 | F24: 45.239092 | I24: 0.047086727
A25: 5 | B25: Ventas netas. | C25: 48651.739 | F25: 45994.585
A26: 6 | B26: Otros ingresos de operación. | C26: 17.482629 | F26: 25.180602
A27: 7 | B27: Ingresos totales (2) | C27: 48669.221 | D27: 1 | F27: 46019.765 | G27: 1 | I27: 0.057572137 | K27: 0.047321887
A28: 8 | B28: Costo de ventas | C28: 25304.613 | D28: 0.51993052 | F28: 23433.191 | G28: 0.50919841
A29: 9 | B29: Utilidad bruta | C29: 23364.608 | D29: 0.48006948 | F29: 22586.574 | G29: 0.49080159 | I29: 0.034446749 | K29: 0.023807237
A30: 10 | B30: Gastos de operación | C30: 16585.349 | D30: 0.34077696 | F30: 15399.01 | G30: 0.33461731
A31: 11 | B31: Otros gastos operativos, neto | C31: 171.89732 | D31: 0.0035319512 | F31: -92.385561 | G31: -0.0020075192
A32: 12 | B32: Método de participación operativo en resultados de asociadas (3) | C32: 144.40587 | D32: 0.0029670881 | F32: 46.481558 | G32: 0.0010100347
A33: 13 | B33: Utilidad de operación (4) | C33: 6462.9553 | D33: 0.13279348 | F33: 7233.468 | G33: 0.15718177 | I33: -0.10652052 | K33: -0.11438344
A34: 32 | B34: Depreciación, amortización y otros cargos virtuales | C34: 3247.0708 | D34: 0.06671713 | F34: 2641.4843 | G34: 0.057398908
A35: 31 | B35: Flujo operativo (4)(5) | C35: 9710.0261 | D35: 0.19951061 | F35: 9874.9523 | G35: 0.21458068 | I35: -0.016701471 | K35: -0.025962598
B38: (1) Excepto transacciones, volumen y precio promedio por caja unidad
B39: (2) Favor de consultar las páginas 18 y 19 para el desglose de ingresos.
B40: (2) Información acumulada: Incluye ingresos totales en México por Ps. 79,850 millones durante los primeros doce meses de 2017 y Ps. 74,413 durante el mismo periodo del año anterior.
B41: (3) Incluye método de participación en Jugos del Valle, Leao Alimentos, Estrella Azul, entre otros. Para enero'17 incluye Coca-Cola FEMSA Philippines, Inc.
A42: (4) Incluye método de participación en Jugos del Valle, Leao Alimentos, Estrella Azul, un mes de 2017 y nueve meses de 2016 de Coca-Cola FEMSA Philippines, Inc., entre otros. | B42: (3) información acumulada: incluye metodo de participación de Jugos del Valle, Estrella Azul, un mes de 2017 y doce meses de 2016 de Coca-Cola FEMSA Philippines, Inc. entre otros.
B43: (4) Las líneas de utilidad de operación y el flujo operativo se presentan como una medida no contable para comodidad del lector
...

Sheet (4) Division SA
A1: L_K49 - Mexico y Centroamerica | B1: División Sudamérica
B2: Expresado en millones de pesos mexicanos(1)
B3: Información Trimestral
C4: =+'(3) Division MX-CAM '!C4 -> 2T 18 | D4: % Ing | F4: =+'(3) Division MX-CAM '!F4 -> 2T 17 | G4: % Ing | I4: D % Reportado | K4: D % Comparable(7)
B5: Transacciones (millones de transacciones) | C5: 1808.1967 | F5: 1912.2 | I5: -0.05438932 | K5: -0.0028621948
B6: Volumen (millones de cajas unidad) | C6: 270.8 | F6: 290.8 | I6: -0.068775791 | K6: -0.02419051
B7: Precio promedio por caja unidad (2) | C7: 56.285163 | F7: 59.12 | I7: -0.047950564
A8: 5 | B8: Ventas netas. | C8: 18084.588 | F8: 19595.335
A9: =+A8+1 -> 6 | B9: Otros ingresos de operación. | C9: 92.874469 | F9: 47.562134
A10: =+A9+1 -> 7 | B10: Ingresos totales (3) | C10: 18177.462 | D10: 1 | F10: 19642.897 | G10: 1 | I10: -0.074603783 | K10: 0.058876223
A11: =+A10+1 -> 8 | B11: Costo de ventas | C11: 10201.027 | D11: 0.56119095 | F11: 11368.911 | G11: 0.57877978
A12: =+A11+1 -> 9 | B12: Utilidad bruta | C12: 7976.435 | D12: 0.43880905 | F12: 8273.9853 | G12: 0.42122022 | I12: -0.035962147 | K12: 0.074646578
A13: =+A12+1 -> 10 | B13: Gastos de operación | C13: 5648.8359 | D13: 0.31076042 | F13: 6415.0248 | G13: 0.32658242
A14: =+A13+1 -> 11 | B14: Otros gastos operativos, neto | C14: 193.87456 | D14: 0.010665656 | F14: 154.43728 | G14: 0.0078622458
A15: =+A14+1 -> 12 | B15: Método de participación operativo en resultados de asociadas (4) | C15: -18.18246 | D15: -0.0010002749 | F15: -7.7760826 | G15: -0.0003958725
A16: =+A15+1 -> 13 | B16: Utilidad de operación (5) | C16: 2151.9071 | D16: 0.11838325 | F16: 1712.2993 | G16: 0.087171426 | I16: 0.25673533 | K16: 0.19898017
A17: 32 | B17: Depreciación, amortización y otros cargos virtuales | C17: 960.53803 | D17: 0.052842251 | F17: 1363.3894 | G17: 0.069408776
A18: 31 | B18: Flujo operativo (5)(6) | C18: 3112.4451 | D18: 0.1712255 | F18: 3075.6887 | G18: 0.1565802 | I18: 0.011950606 | K18: 0.166053
B20: Información Acumulada
C21: =+'(3) Division MX-CAM '!C21 -> Acumulado 2018 | D21: % Ing | F21: =+'(3) Division MX-CAM '!F21 -> Acumulado 2017 | G21: % Ing | I21: D % Reportado | K21: D % Comparable(7)
B22: Transacciones (millones de transacciones) | C22: 3819.6532 | F22: 3929 | I22: -0.027830703 | K22: 0.021257833
B23: Volumen (millones de cajas unidad) | C23: 583.78108 | F23: 606.7 | I23: -0.037776357 | K23: 0.0049719049
B24: Precio promedio por caja unidad (2) | C24: 57.200184 | F24: 63.053107 | I24: -0.092825281
A25: 5 | B25: Ventas netas. | C25: 39821.441 | F25: 44181.37
A26: 6 | B26: Otros ingresos de operación. | C26: 200.89411 | F26: 129.25991
A27: 7 | B27: Ingresos totales (3) | C27: 40022.335 | D27: 1 | F27: 44310.63 | G27: 1 | I27: -0.096778022 | K27: 0.063191213
A28: 8 | B28: Costo de ventas | C28: 22314.386 | D28: 0.55754834 | F28: 26056.982 | G28: 0.58805263
A29: 9 | B29: Utilidad bruta | C29: 17707.948 | D29: 0.44245166 | F29: 18253.648 | G29: 0.41194737 | I29: -0.029895346 | K29: 0.12108805
A30: 10 | B30: Gastos de operación | C30: 12152.607 | D30: 0.30364564 | F30: 13719.112 | G30: 0.30961221
A31: 11 | B31: Otros gastos operativos, neto | C31: 328.66687 | D31: 0.0082120864 | F31: -180.90966 | G31: -0.00408276
A32: 12 | B32: Método de participación operativo en resultados de asociadas (4) | C32: -28.491773 | D32: -0.00071189683 | F32: -57.496943 | G32: -0.001297588
A33: 13 | B33: Utilidad de operación (5) | C33: 5255.166 | D33: 0.13130583 | F33: 4772.942 | G33: 0.10771551 | I33: 0.10103285 | K33: 0.14898862
A34: 32 | B34: Depreciación, amortización y otros cargos virtuales | C34: 1925.4955 | D34: 0.048110525 | F34: 2693.8221 | G34: 0.060794038
A35: 31 | B35: Flujo operativo (5)(6) | C35: 7180.6615 | D35: 0.17941636 | F35: 7466.7641 | G35: 0.16850955 | I35: -0.038316815 | K35: 0.14123287
B38: (1) Excepto transacciones, volumen y precio promedio por caja unidad
B39: (2) Volumen y precio promedio por caja unidad excluyen los resultados de cerveza
B40: (3) Favor de consultar las páginas 18 y 19 para el desglose de ingresos.
B41: (4) Incluye método de participación en Leao Alimentos, Verde Campo, entre otros.
B42: (5) Las líneas de utilidad de operación y el flujo operativo se presentan como una medida no contable para comodidad del lector.
B43: (6) Flujo operativo = utilidad de operación + depreciación, amortización y otros cargos virtuales de operación.
...

Sheet (6) Asia
A1: L_K49 - Mexico y Centroamerica | B1: División Asia
B2: Expresado en millones de pesos mexicanos(1)
B3: =+'(4) Division SA'!B3 -> Información Trimestral
C4: 2T 18 | D4: % Ing | F4: 2T 17 | G4: % Ing | I4: D % Reportado | K4: D % Comparable(4)
B5: Transacciones (millones de transacciones) | C5: 1818.7561 | F5: 1780.5 | I5: 0.021486129 | K5: 0.021482134
B6: Volumen (millones de cajas unidad) | C6: 154.18314 | F6: 160.5 | I6: -0.039580839 | K6: -0.039580839
B7: Precio promedio por caja unidad | C7: 48.752085 | F7: 36.867938 | I7: 0.32234367
A8: =+[1]ACTUAL!B11 -> 5 | B8: Ventas netas. | C8: 7516.7497 | F8: 5917.3041
A9: =+A8+1 -> 6 | B9: Otros ingresos de operación. | C9: 0 | F9: 0
A10: =+A9+1 -> 7 | B10: Ingresos totales | C10: 7516.7497 | D10: 1 | F10: 5917.3041 | G10: 1 | I10: 0.27029973 | K10: 0.27726686
A11: =+A10+1 -> 8 | B11: Costo de ventas | C11: 5423.0386 | D11: 0.72146057 | F11: 3527.1196 | G11: 0.59606868
A12: =+A11+1 -> 9 | B12: Utilidad bruta | C12: 2093.7112 | D12: 0.27853943 | F12: 2390.1844 | G12: 0.40393132 | I12: -0.12403781 | K12: -0.11876403
A13: =+A12+1 -> 10 | B13: Gastos de operación | C13: 1758.5603 | D13: 0.23395223 | F13: 1847.1422 | G13: 0.31215942
A14: =+A13+1 -> 11 | B14: Otros gastos operativos, neto | C14: 11.158202 | D14: 0.001484445 | F14: 3.4765692 | G14: 0.00058752586
A15: =+#REF!+1 -> #REF! | B15: Utilidad de operación | C15: 323.99265 | D15: 0.043102759 | F15: 539.56567 | G15: 0.091184374 | I15: -0.39953064 | K15: -0.40112408
A16: 32 | B16: Depreciación, amortización y otros cargos virtuales | C16: 461.02997 | D16: 0.061333686 | F16: 519.33002 | G16: 0.087764632
A17: =+'(1) Consolidado Q'!A33 -> 31 | B17: Flujo operativo (3) | C17: 785.02262 | D17: 0.10443645 | F17: 1058.8957 | G17: 0.17894901 | I17: -0.25864026 | K17: -0.26205764
B19: =+'(4) Division SA'!B20 -> Información Acumulada
C20: Acumulado 2018 | D20: % Ing | F20: Acumulado 2017 (2) | G20: % Ing | I20: D % Reportado | K20: D % Comparable(4)
B21: Transacciones (millones de transacciones) | C21: 3270.8459 | F21: 2825.1 | I21: 0.15778057 | K21: 0.0062371792
B22: Volumen (millones de cajas unidad) | C22: 274.03771 | F22: 252.8 | I22: 0.084009909 | K22: -0.058312915
B23: Precio promedio por caja unidad | C23: 47.830273 | F23: 37.651876 | I23: 0.27032908
A24: 5 | B24: Ventas netas. | C24: 13107.298 | F24: 9518.3943
A25: 6 | B25: Otros ingresos de operación. | C25: 0 | F25: 0
A26: 7 | B26: Ingresos totales | C26: 13107.298 | D26: 1 | F26: 9518.3943 | G26: 1 | I26: 0.37704931 | K26: 0.23607095
A27: 8 | B27: Costo de ventas | C27: 9312.2531 | D27: 0.7104632 | F27: 5684.9205 | G27: 0.59725625
A28: 9 | B28: Utilidad bruta | C28: 3795.0452 | D28: 0.2895368 | F28: 3833.4738 | G28: 0.40274375 | I28: -0.010024479 | K28: -0.14414466
A29: 10 | B29: Gastos de operación | C29: 3322.6969 | D29: 0.25349976 | F29: 3049.8149 | G29: 0.32041275
A30: 11 | B30: Otros gastos operativos, neto | C30: 31.104704 | D30: 0.0023730828 | F30: 15.336495 | G30: 0.0016112481
A31: 13 | B31: Utilidad de operación | C31: 441.24361 | D31: 0.033663964 | F31: 768.32242 | G31: 0.080719751 | I31: -0.42570515 | K31: -0.44261951
A32: 32 | B32: Depreciación, amortización y otros cargos virtuales | C32: 884.84006 | D32: 0.067507433 | F32: 890.17216 | G32: 0.093521252
A33: 31 | B33: Flujo operativo (3) | C33: 1326.0837 | D33: 0.1011714 | F33: 1658.4946 | G33: 0.174241 | I33: -0.2004293 | K33: -0.26973955
B35: (1) Excepto transacciones, volumen y precio promedio por caja unidad.
B36: (2) Incluy unicamente febrero a junio para 2017
B37: (3) Flujo operativo = utilidad de operación + depreciación, amortización y otros cargos virtuales de operación.
B38: (4) Favor de consultar la página 10 para obtener nuestra definición de “comparable” y la descripción de los factores que afectan la comparabilidad en nuestro desempeño financiero y operativo.

Sheet (9) Balance  (2)
A1: Estado de Situación Financiera Consolidado
A2: Expresado en millones de pesos mexicanos.
C3: Jun-18 | E3: Dic-17
A4: Activo
A5: Activos circulantes
A6: Efectivo, equivalentes de efectivo y valores negociables | B6: Ps. | C6: 23469.41 | D6: Ps. | E6: 18766.856
A7: Total cuentas por cobrar | C7: 13766.192 | E7: 17576
A8: Inventarios | C8: 11384.915 | E8: 11364.222
A9: Otros activos circulantes | C9: 8330.4156 | E9: 7949.6743
A10: Total activos circulantes | C10: 56950.932 | E10: 55657
A11: Propiedad, planta y equipo
A12: Propiedad, planta y equipo | C12: 121441.63 | E12: 121968
A13: Depreciación acumulada | C13: -48918.186 | E13: -46141
A14: Total propiedad, planta y equipo, neto | C14: 72523.445 | E14: 75827.334
A15: Inversión en acciones | C15: 11327.229 | E15: 12540
A16: Activos intangibles | C16: 122393.68 | E16: 124242.95
A17: Otros activos no circulantes | C17: 18270.896 | E17: 17409.807
A18: Total activos | B18: Ps. | C18: 281466.19 | D18: Ps. | E18: 285677
A20: Pasivo y Capital
A21: Pasivo circulante
A22: Deuda a corto plazo y documentos | B22: Ps. | C22: 12003.238 | D22: Ps. | E22: 12171.17
A23: Proveedores | C23: 16728.178 | E23: 19956
A24: Otros pasivos corto plazo | C24: 20810.121 | E24: 23467
A25: Pasivo circulante | C25: 49541.536 | E25: 55595
A26: Préstamos bancarios y documentos por pagar a largo plazo | C26: 81258.234 | E26: 71188.918
A27: Otros pasivos de largo plazo | C27: 17837.658 | E27: 18184.191
A28: Total pasivo | C28: 148637.43 | E28: 144968
A29: Capital
A30: Participación no controladora | C30: 17049.47 | E30: 18141
A31: Total participación controladora | C31: 115779.29 | E31: 122568
A32: Total capital | C32: 132828.76 | E32: 140710
A33: Total Pasivo y Capital | B33: Ps. | C33: 281466.19 | D33: Ps. | E33: 285677
A35: (1) Includes the net reduction in equity of Ps.[·] million recognized in the cumulative translation account as a result of the valuation of our net investment in our subsidiaries and joint ventures. This reduction is originated by the negative translation effect of using the state-run DICOM (former SIMADI) exchange rate of 354.0757 bolivar per U.S. dollar as of March 31, 2016 in Venezuela; and the depreciation of the end-of-period exchange rate of the Brazilian real, the Colombian peso, and the Argentine peso, net of the positive translation effect resulting from the appreciation of the end-of-period exchange rates in Central America and the Philippines; all as compared to the Mexican peso.

Sheet Vol y Trans T  delta Total
B1: Trimestre - Volumen, Transacciones e Ingresos
B2: Por los tres meses terminados el 30 de junio de 2018 y 2017
B3: Volumen
B4: Expresado en millones de cajas unidad | C4: 2T 2018 | I4: 2T 2017 | O4: A/A
C5: Refrescos | D5: Agua (1) | E5: Garrafón(2) | F5: Otros | G5: Total | I5: Refrescos | J5: Agua (1) | K5: Garrafón(2) | L5: Otros | M5: Total | O5: D%
B6: México | C6: 360.89832 | D6: 29.001047 | E6: 76.354012 | F6: 32.446498 | G6: =+SUM(C6:F6) -> 498.69987 | I6: 360.7 | J6: 28.4 | K6: 81.7 | L6: 29.5 | M6: 500.3 | O6: -0.0031089722 | P6: 479.67644
B7: Centroamérica | C7: 45.482112 | D7: 2.6294171 | E7: 0.14794088 | F7: 5.2457421 | G7: =+SUM(C7:F7) -> 53.505212 | I7: 35.7 | J7: 2.6 | K7: 0.1 | L7: 5 | M7: 43.4 | O7: 0.23219324 | P7: 42.25213
B8: México y Centroamérica | C8: =+SUM(C6:C7) -> 406.38043 | D8: =+SUM(D6:D7) -> 31.630464 | E8: =+SUM(E6:E7) -> 76.501953 | F8: =+SUM(F6:F7) -> 37.69224 | G8: =SUM(G6:G7) -> 552.20509 | I8: 396.3 | J8: 31 | K8: 81.9 | L8: 34.5 | M8: 543.7 | O8: 0.015684265
B9: Colombia | C9: 47.31218 | D9: 7.8873356 | E9: 2.7357296 | F9: 3.8659899 | G9: =+SUM(C9:F9) -> 61.801235 | I9: 48.9 | J9: 7.7 | K9: 2.7 | L9: 5.7 | M9: 64.9 | O9: -0.048129757 | P9: 75.756705
B10: Venezuela | C10: - | D10: - | E10: - | F10: - | G10: - | I10: 11.6 | J10: 1.2 | K10: 0.1 | L10: 0.4 | M10: 13.3 | O10: - | P10: 35.258635
B11: Brasil | C11: 149.98326 | D11: 9.6681571 | E11: 1.5500129 | F11: 9.6437559 | G11: =+SUM(C11:F11) -> 170.84518 | I11: 149.8 | J11: 7.5 | K11: 1.3 | L11: 7.7 | M11: 166.3 | O11: 0.027128331 | P11: 146.91105
B12: Argentina | C12: 30.95466 | D12: 3.6385268 | E12: 1.0305649 | F12: 2.4851307 | G12: =+SUM(C12:F12) -> 38.108883 | I12: 37.6 | J12: 4.6 | K12: 0.7 | L12: 3.4 | M12: 46.3 | O12: -0.17635199 | P12: 44.596486
B13: Sudamérica | C13: =+SUM(C9:C12) -> 228.2501 | D13: =+SUM(D9:D12) -> 21.194019 | E13: =+SUM(E9:E12) -> 5.3163073 | F13: =+SUM(F9:F12) -> 15.994877 | G13: =+SUM(G9:G12) -> 270.7553 | I13: 247.8 | J13: 21 | K13: 4.7 | L13: 17.2 | M13: 290.8 | O13: -0.068900711
B14: Filipinas | C14: 126.84696 | D14: 7.3975774 | E14: 11.901189 | F14: 8.0374139 | G14: =+SUM(C14:F14) -> 154.18314 | I14: 127.9 | J14: 7.5 | K14: 9 | L14: 16.2 | M14: 160.5 | O14: -0.039571064
B15: Asia | C15: =+C14 -> 126.84696 | D15: =+D14 -> 7.3975774 | E15: =+E14 -> 11.901189 | F15: =+F14 -> 8.0374139 | G15: =G14 -> 154.18314 | I15: 127.9 | J15: 7.5 | K15: 9 | L15: 16.2 | M15: 160.5 | O15: =+O14 -> -0.039571064
B16: Total | C16: =+C8+C13+C15 -> 761.47749 | D16: =+D8+D13+D15 -> 60.222061 | E16: =+E8+E13+E15 -> 93.71945 | F16: =+F8+F13+F15 -> 61.724531 | G16: =+G8+G13+G15 -> 977.14353 | I16: 772 | J16: 59.6 | K16: 95.5 | L16: 67.9 | M16: 995 | O16: -0.017950759
B17: (1) Excluye presentaciones mayores a 5.0 lts; incluye agua saborizada.
B18: (2) Garrafón: Agua embotellada no carbonatada en presentaciones de 5.0, 19.0 y 20.0 litros; incluye agua saborizada.
B20: Transacciones
B21: Expresado en millones de transacciones | C21: =+C4 -> 2T 2018 | I21: =+I4 -> 2T 2017 | O21: A/A
C22: Refrescos | D22: Agua | F22: Otros | G22: Total | I22: Refrescos | J22: Agua | L22: Otros | M22: Total | O22: D%
B23: México | C23: 2154.8353 | D23: 211.45505 | F23: 261.24997 | G23: =+SUM(C23:F23) -> 2627.5404 | I23: 2169.3 | J23: 207.4 | L23: 246.8 | M23: 2623.6 | O23: 0.0015206843 | P23: 2539.5143
B24: Centroamérica | C24: 364.93333 | D24: 15.996144 | F24: 63.723839 | G24: =+SUM(C24:F24) -> 444.65331 | I24: 293.3 | J24: 15.7 | L24: 65 | M24: 374 | O24: 0.18899721 | P24: 368.84295
B25: México y Centroamérica | C25: =+SUM(C23:C24) -> 2519.7687 | D25: =+SUM(D23:E24) -> 227.4512 | F25: =+SUM(F23:F24) -> 324.97381 | G25: =SUM(G23:G24) -> 3072.1937 | I25: 2462.6 | J25: 223.2 | L25: 311.8 | M25: 2997.5 | O25: 0.024910397
B26: Colombia | C26: 347.95581 | D26: 82.166656 | F26: 44.426499 | G26: =+SUM(C26:F26) -> 474.54896 | I26: 371.2 | J26: 72.4 | L26: 56.4 | M26: 500 | O26: -0.050938753 | P26: 605.74801
B27: Venezuela | C27: - | D27: - | F27: - | G27: - | I27: 84.1 | J27: 9.9 | L27: 4.9 | M27: 98.8 | O27: - | P27: 195.05863
B28: Brasil | C28: 936.08333 | D28: 82.240801 | F28: 107.16927 | G28: =+SUM(C28:F28) -> 1125.4934 | I28: 924.4 | J28: 67.5 | L28: 88.3 | M28: 1080.2 | O28: 0.041893308 | P28: 971.52229
B29: Argentina | C29: 169.53841 | D29: 20.519082 | F29: 18.096893 | G29: =+SUM(C29:F29) -> 208.15438 | I29: 187 | J29: 23.3 | L29: 22.8 | M29: 233.1 | O29: -0.1071281 | P29: 227.5205
B30: Sudamérica | C30: =+SUM(C26:C29) -> 1453.5775 | D30: =+SUM(D26:E29) -> 184.92654 | F30: =+SUM(F26:F29) -> 169.69266 | G30: =+SUM(G26:G29) -> 1808.1967 | I30: 1566.7 | J30: 173.1 | L30: 172.4 | M30: 1912.2 | O30: -0.054396953
B31: Filipinas | C31: 1636.4706 | D31: 92.353927 | F31: 89.931521 | G31: =+SUM(C31:F31) -> 1818.7561 | I31: 1573.2 | J31: 88.1 | L31: 119.3 | M31: 1780.5 | O31: 0.021482134
B32: Asia | C32: =+C31 -> 1636.4706 | D32: =+D31 -> 92.353927 | F32: =+F31 -> 89.931521 | G32: =G31 -> 1818.7561 | I32: =SUM(I31) -> 1573.2 | J32: =SUM(J31) -> 88.1 | K32: =SUM(K31) -> 0 | L32: =SUM(L31) -> 119.3 | M32: =SUM(M31) -> 1780.5 | O32: =+O31 -> 0.021482134
B33: Total | C33: =+C25+C30+C32 -> 5609.8168 | D33: =+SUM(D32,D30,D25) -> 504.73166 | F33: =+F25+F30+F32 -> 584.59799 | G33: =+G25+G30+G32 -> 6699.1465 | I33: 5602.5 | J33: 484.3 | K33: =+K25+K30+K32 -> 0 | L33: 603.4 | M33: =+M25+M30+M32 -> 6690.2 | O33: 0.0013302819
B36: Ingresos
B37: Expresado en millones de pesos mexicanos | C37: =+C21 -> 2T 2018 | D37: =+I21 -> 2T 2017 | E37: D%
B38: 0
B39: México | C39: 22437.183 | D39: 21360.836 | E39: =+C39/D39-1 -> 0.050388817
B40: Centroamérica | C40: 3954.5906 | D40: 3186.4686 | E40: =+C40/D40-1 -> 0.24105746
B41: México y Centroamérica | C41: =+SUM(C39:C40) -> 26391.773 | D41: =+SUM(D39:D40) -> 24547.304 | E41: =+C41/D41-1 -> 0.075139382
B42: Colombia | C42: 3492.68 | D42: 3463.3992 | E42: =+C42/D42-1 -> 0.0084543514
B43: Venezuela | C43: - | D43: 920.64725 | E43: -
...

Sheet Vol y Trans T Acum delta total
B1: Acumulado - Volumen, Transacciones e Ingresos
B2: Por los seis meses terminados el 30 de junio de 2018 y 2017
B3: Volumen
B4: Expresado en millones de cajas unidad | C4: Acumulado 2018 | I4: Acumulado 2017 | O4: A/A
C5: Refrescos | D5: Agua (1) | E5: Garrafón(2) | F5: Otros | G5: Total | I5: Refrescos | J5: Agua (1) | K5: Garrafón(2) | L5: Otros | M5: Total | O5: D%
B6: México | C6: 671.01606 | D6: 54.18071 | E6: 142.87903 | F6: 60.60409 | G6: =+SUM(C6:F6) -> 928.67988 | I6: 674.6 | J6: 52.3 | K6: 150.3 | L6: 55.6 | M6: 932.7 | O6: -0.0043066841 | P6: 479.67644
B7: Centroamérica | C7: 82.325305 | D7: 5.5199988 | E7: 0.34767762 | F7: 10.204352 | G7: =+SUM(C7:F7) -> 98.397334 | I7: 68.8 | J7: 5.2 | K7: 0.3 | L7: 9.6 | M7: 84 | O7: 0.17201765 | P7: 42.25213
B8: México y Centroamérica | C8: =+SUM(C6:C7) -> 753.34136 | D8: =+SUM(D6:D7) -> 59.700709 | E8: =+SUM(E6:E7) -> 143.2267 | F8: =+SUM(F6:F7) -> 70.808442 | G8: =SUM(G6:G7) -> 1027.0772 | I8: 743.4 | J8: 57.4 | K8: 150.6 | L8: 65.3 | M8: 1016.7 | O8: 0.010254243
B9: Colombia | C9: 97.698148 | D9: 16.683056 | E9: 5.8665259 | F9: 8.2358739 | G9: =+SUM(C9:F9) -> 128.4836 | I9: 93.8 | J9: 15.1 | K9: 5.4 | L9: 11.4 | M9: 125.8 | O9: 0.021461622 | P9: 75.756705
B10: Venezuela | C10: - | D10: - | E10: - | F10: - | G10: - | I10: 22.1 | J10: 2.6 | K10: 0.1 | L10: 1.1 | M10: 25.9 | O10: - | P10: 35.258635
B11: Brasil | C11: 319.32051 | D11: 22.098964 | E11: 3.6391281 | F11: 20.550944 | G11: =+SUM(C11:F11) -> 365.60954 | I11: 317.9 | J11: 18.8 | K11: 3 | L11: 16.8 | M11: 356.5 | O11: 0.025552712 | P11: 146.91105
B12: Argentina | C12: 71.781352 | D12: 8.926059 | E12: 2.48093 | F12: 6.4992756 | G12: =+SUM(C12:F12) -> 89.687617 | I12: 79.2 | J12: 10.4 | K12: 1.5 | L12: 7.5 | M12: 98.6 | O12: -0.090571654 | P12: 44.596486
B13: Sudamérica | C13: =+SUM(C9:C12) -> 488.80001 | D13: =+SUM(D9:D12) -> 47.708079 | E13: =+SUM(E9:E12) -> 11.986584 | F13: =+SUM(F9:F12) -> 35.286093 | G13: =+SUM(G9:G12) -> 583.78076 | I13: 513 | J13: 46.9 | K13: 10.1 | L13: 36.8 | M13: 606.8 | O13: -0.03800865
B14: Filipinas (3) | C14: 223.95123 | D14: 13.267569 | E14: 22.088937 | F14: 14.729969 | G14: =+SUM(C14:F14) -> 274.0377 | I14: 201.2 | J14: 11.8 | K14: 14.9 | L14: 24.9 | M14: 252.8 | O14: 0.084030274
B15: Asia | C15: =+C14 -> 223.95123 | D15: =+D14 -> 13.267569 | E15: =+E14 -> 22.088937 | F15: =+F14 -> 14.729969 | G15: =G14 -> 274.0377 | I15: 201.2 | J15: 11.8 | K15: 14.9 | L15: 24.9 | M15: 252.8 | O15: =+O14 -> 0.084030274
B16: Total | C16: =+C8+C13+C15 -> 1466.0926 | D16: =+D8+D13+D15 -> 120.67636 | E16: =+E8+E13+E15 -> 177.30223 | F16: =+F8+F13+F15 -> 120.8245 | G16: =+G8+G13+G15 -> 1884.8957 | I16: 1457.6 | J16: 116.2 | K16: 175.5 | L16: 127 | M16: 1876.3 | O16: 0.0045845964
B17: (1) Excluye presentaciones mayores a 5.0 lts; incluye agua saborizada.
B18: (2) Garrafón: Agua embotellada no carbonatada en presentaciones de 5.0, 19.0 y 20.0 litros; incluye agua saborizada.
B19: (3) La información reportada para Filipinas 2017 incluye febrero a junio.
B21: Transacciones
B22: Expresado en millones de transacciones | C22: =+C4 -> Acumulado 2018 | I22: =+I4 -> Acumulado 2017 | O22: =+O4 -> A/A
C23: Refrescos | D23: Agua | F23: Otros | G23: Total | I23: Refrescos | J23: Agua | L23: Otros | M23: Total | O23: D%
B24: México | C24: 4041.2555 | D24: 394.12876 | F24: 491.58181 | G24: =+SUM(C24:F24) -> 4926.9661 | I24: 4091.8 | J24: 384.9 | L24: 473.9 | M24: 4950.5 | O24: -0.0047547464 | P24: 2539.5143
B25: Centroamérica | C25: 659.82885 | D25: 32.249326 | F25: 127.17062 | G25: =+SUM(C25:F25) -> 819.24879 | I25: 570.6 | J25: 31.3 | L25: 125.4 | M25: 727.4 | O25: 0.12626685 | P25: 368.84295
B26: México y Centroamérica | C26: =+SUM(C24:C25) -> 4701.0844 | D26: =+SUM(D24:E25) -> 426.37808 | F26: =+SUM(F24:F25) -> 618.75243 | G26: =SUM(G24:G25) -> 5746.2149 | I26: 4662.4 | J26: 416.2 | L26: 599.3 | M26: 5677.9 | O26: 0.012030555
B27: Colombia | C27: 722.37658 | D27: 167.64192 | F27: 90.333651 | G27: =+SUM(C27:F27) -> 980.35215 | I27: 721.5 | J27: 139.8 | L27: 116.3 | M27: 977.6 | O27: 0.0028453217 | P27: 605.74801
B28: Venezuela | C28: - | D28: - | F28: - | G28: - | I28: 155.5 | J28: 24.6 | L28: 8.7 | M28: 188.8 | O28: - | P28: 195.05863
B29: Brasil | C29: 1960.2933 | D29: 190.57531 | F29: 223.31602 | G29: =+SUM(C29:F29) -> 2374.1847 | I29: 1918.7 | J29: 167.5 | L29: 188.2 | M29: 2274.5 | O29: 0.043838529 | P29: 971.52229
B30: Argentina | C30: 373.9 | D30: 47.976931 | F30: 43.239419 | G30: =+SUM(C30:F30) -> 465.11635 | I30: 387.1 | J30: 51.9 | L30: 49.1 | M30: 488.1 | O30: -0.047086919 | P30: 227.5205
B31: Sudamérica | C31: =+SUM(C27:C30) -> 3056.5699 | D31: =+SUM(D27:E30) -> 406.19416 | F31: =+SUM(F27:F30) -> 356.88909 | G31: =+SUM(G27:G30) -> 3819.6532 | I31: 3182.8 | J31: 383.8 | L31: 362.3 | M31: 3928.9 | O31: -0.027814908
B32: Filipinas (3) | C32: 2927.0112 | D32: 164.84845 | F32: 178.98628 | G32: =+SUM(C32:F32) -> 3270.8459 | I32: 2500.5 | J32: 136.7 | L32: 187.9 | M32: 2825.1 | O32: 0.15778119
B33: Asia | C33: =+C32 -> 2927.0112 | D33: =+D32 -> 164.84845 | F33: =+F32 -> 178.98628 | G33: =G32 -> 3270.8459 | I33: 2500.5 | J33: 136.7 | K33: =SUM(K32) -> 0 | L33: 187.9 | M33: 2825.1 | O33: =+O32 -> 0.15778119
B34: Total | C34: =+C26+C31+C33 -> 10684.665 | D34: =+SUM(D33,D31,D26) -> 997.42069 | F34: =+F26+F31+F33 -> 1154.6278 | G34: =+G26+G31+G33 -> 12836.714 | I34: 10345.8 | J34: 936.6 | L34: 1149.5 | M34: 12431.9 | O34: 0.032559097
B37: Ingresos
B38: Expresado en millones de pesos mexicanos | C38: =+C22 -> Acumulado 2018 | D38: =+I22 -> Acumulado 2017 | E38: D%
B39: Mexico
B40: México | C40: 41521.269 | D40: 39473.891 | E40: =+C40/D40-1 -> 0.051866632
B41: Centroamérica | C41: 7147.9529 | D41: 6545.8744 | E41: =+C41/D41-1 -> 0.09197831
B42: México y Centroamérica | C42: =+SUM(C40:C41) -> 48669.221 | D42: =+SUM(D40:D41) -> 46019.765 | E42: =+C42/D42-1 -> 0.057572137
B43: Colombia | C43: 7092.6734 | D43: 7098.2857 | E43: =+C43/D43-1 -> -0.00079065369
...

Sheet (12) Macroeconomicos (2)
A1: Información Macroeconómica
A2: Segundo trimestre 2018
A4: Inflación (1)
B6: U 12 M | C6: 2T 18 | D6: Acumulado
A7: México | B7: 0.046671084 | C7: -0.0071887308 | D7: 0.0057049522
A8: Colombia | B8: 0.031858653 | C8: 0.0050464324 | D8: 0.025684886
A9: Venezuela (2) | B9: 0.029474419 | C9: 0.0079172203 | D9: 0.01732113
A10: Brasil | B10: 0.029474419 | C10: 0.0079172203 | D10: 0.01732113
A11: Argentina | B11: 0.27607191 | C11: 0.069661784 | D11: 0.14175695
A12: Filipinas | B12: 0.052704408 | C12: 0.0051016018 | D12: 0.031106881
A13: (1) Fuente: inflación publicada por los Bancos Centrales de cada país
A16: Tipo de cambio promedio de cada periodo (2)
B18: Tipo de Cambio Trimestral (moneda local por USD) | F18: Tipo de Cambio Acumulado (moneda local por USD)
B19: 2T 18 | C19: 2T 17 | D19: D % | F19: Acum 18 | G19: Acum 17 | H19: D %
A20: Mexico | B20: 19.371516 | C20: 18.596358 | D20: 0.041683349 | F20: 19.065259 | G20: 19.492262 | H20: -0.021906304
A21: Guatemala | B21: 7.4427246 | C21: 7.3400426 | D21: 0.013989288 | F21: 7.4040279 | G21: 7.3854711 | H21: 0.0025126013
A22: Nicaragua | B22: 31.355995 | C22: 29.862852 | D22: 0.050000011 | F22: 31.167472 | G22: 29.683306 | H22: 0.050000037
A23: Costa Rica | B23: 569.02821 | C23: 575.30913 | D23: -0.010917472 | F23: 570.48936 | G23: 570.01423 | H23: 0.00083353867
A24: Panama | B24: 1 | C24: 1 | D24: 0 | F24: 1 | G24: 1 | H24: 0
A25: Colombia | B25: 2840.3094 | C25: 2918.6349 | D25: -0.026836366 | F25: 2850.3369 | G25: 2920.3537 | H25: -0.023975453
A26: Venezuela | B26: 3.607104 | C26: 3.2136827 | D26: 0.12242073 | F26: 3.4254369 | G26: 3.1778631 | H26: 0.077905748
A27: Brazil | B27: 3.607104 | C27: 3.2136827 | D27: 0.12242073 | F27: 3.4254369 | G27: 3.1778631 | H27: 0.077905748
A28: Argentina | B28: 23.526069 | C28: 15.732151 | D28: 0.49541339 | F28: 21.615244 | G28: 15.703192 | H28: 0.37648725
A29: =+A12 -> Filipinas | B29: 52.449358 | C29: 49.857688 | D29: 0.051981334 | F29: 51.951662 | G29: 49.924211 | H29: 0.040610576
A31: Tipo de cambio de cierre de periodo
B33: Tipo de Cambio Cierre (moneda local por USD) | F33: Tipo de Cambio Cierre (moneda local por USD)
B34: Jun 2018 | C34: Jun 2017 | D34: D % | F34: Mar 2018 | G34: Mar 2017 | H34: D %
A35: Mexico | B35: 19.8633 | C35: 17.8973 | D35: 0.10984897 | F35: 18.3445 | G35: 18.8092 | H35: -0.024705995
A36: Guatemala | B36: 7.49326 | C36: 7.33516 | D36: 0.021553722 | F36: 7.39919 | G36: 2.5626451 | H36: 1.8873253
A37: Nicaragua | B37: 31.545 | C37: 30.0428 | D37: 0.050001997 | F37: 31.1636 | G37: 29.6796 | H37: 0.050000674
A38: Costa Rica | B38: 570.08 | C38: 579.87 | D38: -0.016883094 | F38: 569.31 | G38: 567.34 | H38: 0.0034723446
A39: Panama | B39: 1 | C39: 1 | D39: 0 | F39: 1 | G39: 1 | H39: 0
A40: Colombia | B40: 2930.8 | C40: 3038.26 | D40: -0.035368928 | F40: 2780.47 | G40: 2880.24 | H40: -0.034639474
A41: Venezuela | B41: 3.8558 | C41: 3.3082 | D41: 0.16552808 | F41: 3.3238 | G41: 3.1684 | H41: 0.049046838
A42: Brazil | B42: 3.8558 | C42: 3.3082 | D42: 0.16552808 | F42: 3.3238 | G42: 3.1684 | H42: 0.049046838
A43: Argentina | B43: 28.85 | C43: 16.63 | D43: 0.7348166 | F43: 20.149 | G43: 15.39 | H43: 0.30922677
A44: Philippines | B44: 53.522 | C44: 50.466 | D44: 0.060555622 | F44: 52.207 | G44: 50.194 | H44: 0.040104395
A45: (2) Tipo de cambio promedio para cada periodo calculado con el promedio de cada mes.
